BEGIN:VCALENDAR
VERSION:2.0
PRODID:spatie/icalendar-generator
DESCRIPTION:Events from Averly Morillo
X-WR-CALDESC:Events from Averly Morillo
REFRESH-INTERVAL;VALUE=DURATION:PT1440M
X-PUBLISHED-TTL:PT1440M
BEGIN:VTIMEZONE
TZID:Europe/Madrid
BEGIN:STANDARD
DTSTART:20241027T030000Z
TZOFFSETFROM:+0200
TZOFFSETTO:+0100
END:STANDARD
BEGIN:DAYLIGHT
DTSTART:20250330T020000Z
TZOFFSETFROM:+0100
TZOFFSETTO:+0200
END:DAYLIGHT
BEGIN:STANDARD
DTSTART:20251026T030000Z
TZOFFSETFROM:+0200
TZOFFSETTO:+0100
END:STANDARD
END:VTIMEZONE
BEGIN:VTIMEZONE
TZID:UTC
BEGIN:STANDARD
DTSTART:20250726T113137Z
TZOFFSETFROM:+0000
TZOFFSETTO:+0000
END:STANDARD
END:VTIMEZONE
BEGIN:VEVENT
UID:2-2
DTSTAMP:20260422T113137Z
SUMMARY:Averly Morillo en San Diego
LOCATION:San Diego\, CA 1500 E LEXINGTON AVE\, EL CAJON\, CA 91019  San Die
 go California 92019
ORGANIZER;CN=Robert Green:MAILTO:Dtupccorp@gmail.com
DTSTART;TZID=Europe/Madrid:20250516T183000
DTEND;TZID=Europe/Madrid:20250516T193000
X-ALT-DESC;FMTTYPE=TEXT/HTML:
CATEGORIES:General
URL;VALUE=URI:https://averlymorillo.com/mc-events/averly-morillo-en-san-die
 go/?mc_id=2
END:VEVENT
END:VCALENDAR